{"text_format":"1","workbook":"xlsx","n_sheets":3,"sheets":["Calculations","UserInterface","Start"],"not_rendered":{"charts":0,"images":3,"macros":1,"external_links":0,"defined_names":1,"comments":0,"pivot_tables":0},"unopened":[],"bounds":{"document_bytes":16777216,"sheet_cells":100000,"rows_first":2000,"rows_last":500,"rows_between":2000,"halvings":0,"cell_chars":16384,"cell_head_chars":4096},"cells_cut":0,"cells_raw":0,"read":"whole","date_system":"1900"}

{"sheet":"Calculations","index":0,"n_rows":36,"n_cols":17,"rows_kept":36,"cut":false,"hidden":true,"merged":[[0,4,0,6],[0,1,0,2]]}
[null,"Bandwidth ",null,null,"Max Frame Rate Calculation"]
[null,"Protocol","Bandwidth (Gbps)",null,"Parameter","Value","Remark"]
[null,"CXP3",2.4,null,"Bandwidth",{"$f":"VLOOKUP(UserInterface!$D$26,$B$3:$D$5,2,FALSE)*(100-$C$6)/100","v":9.8000000000000007}]
[null,"CXP6",4.9000000000000004,null,"# of links",{"$f":"UserInterface!D24","v":4}]
[null,"CXP12",9.8000000000000007,null,"Total Bandwidth",{"$f":"F3*F4*1000000000","v":39200000000}]
[null,"Overhead (%)",0,null,"CLK_PIX (Hz)",{"$f":"VLOOKUP($C$9,$E$31:$O$36,6,FALSE) / F13","v":100000000},"Sensor Clock per pixel"]
[null,null,null,null,"CLK_PIX Period (s)",{"$f":"1/F6","v":1E-8},"TCLK_PIX"]
[null,null,null,null,"SOL+EOL",{"$f":"IF(\"Normal\"=UserInterface!D21,4,2)","v":4}]
[null,"Sensor select",{"$f":"CONCATENATE(UserInterface!$B$19,\" \",UserInterface!$D$21)","v":"Iron 4521 Normal"},null,"Pixel per clock",{"$f":" CEILING($C$14 / 2 * 4 / VLOOKUP($C$9,$E$31:$O$36,10,FALSE), 4)","v":256}]
[null,"Bitness",8,null,"Readout Black Lines",0]
[null,null,10,null,"Lines",{"$f":"UserInterface!$D$22","v":4096},"NROW"]
[null,null,12,null,"Columns",{"$f":"UserInterface!$D$23","v":5120}]
[null,"Height",{"$f":"VLOOKUP($C$9,$E$31:$M$36,4,FALSE)","v":4096},null,"Readout Bits (8,10,12)",{"$f":"UserInterface!$D$25","v":12}]
[null,"Width",{"$f":"VLOOKUP($C$9,$E$31:$M$36,5,FALSE)","v":5120},null,"Line Size (Bits)",{"$f":"F12*F13","v":61440}]
[null,"Speed","Normal",null,"Line Rate (Hz)",{"$f":"F5/F14","v":638020.83333333337}]
[null,null,"Binning2x2",null,"Shortes protocol line time (s)",{"$f":"1/F15","v":1.5673469387755101E-6}]
[null,null,null,null,"Shortest line time (clocks)",{"$f":"F16/F7","v":156.73469387755102}]
[null,null,null,null,"Sensor line time (clocks)",{"$f":" MAX(($F$9+$F$8), CEILING(VLOOKUP($C$9,$E$31:$O$36,IF(8=$F$13,7,IF(10=$F$13,8,9)),FALSE),4)) / 2","v":130},"2 lines are read in parrallel, 1 from each half of the sensor"]
[null,null,null,null,"Shortest sensor line times",{"$f":"MAX(F18,ROUNDUP(F17,0))","v":157}]
[null,null,null,null,"Actual line time [sec]",{"$f":"F19*F7","v":1.57E-6}]
[null,null,null,null,"TFOT [sec]",{"$f":" IF(\"Iron 4502\"=UserInterface!B19, IF(8=$F$13,5,IF(10=$F$13,8,10)), 10) / 1000000","v":1.0000000000000001E-5}]
[null,null,null,null,"TFOT Actual [sec]",{"$f":" F21 + VLOOKUP($C$9,$E$31:$Q$36,IF(8=$F$13,11,IF(10=$F$13,12,13)),FALSE) * F20 * 4","v":6.6520000000000007E-5}]
[null,null,null,null,"TRD [sec]",{"$f":"(F11+F10)*F20","v":6.43072E-3}]
[null,null,null,null,"TFRM (Min) [sec]",{"$f":"F22+F23","v":6.4972399999999996E-3}]
[]
[null,null,null,null,"Max FPS",{"$f":"FLOOR(1/F24,1)","v":153}]
[]
[]
[]
[null,"Sensors list",null,null,"Sensor","Sensor Height (V)","Sensor Width (H)","Max Height (V)","Max Width (H)","Sensor Clock","8bit min line time","10bit min line time","12bit min line time","Total used MUX","8bit FOT in lines","10bit FOT in lines","12bit FOT in lines"]
[null,"Iron 4521",null,null,"Iron 4521 Normal",4128,5376,4096,5120,1200000000,71,114,193,40,19,13,9]
[null,"Iron 4510",null,null,"Iron 4521 Binning2x2",{"$f":"F31/2","v":2064},{"$f":"G31/2","v":2688},2048,2560,1200000000,{"$f":"CEILING(K31/2,1)","v":36},{"$f":"CEILING(L31/2,1)","v":57},97,40,21,15,11]
[null,"Iron 4502",null,null,"Iron 4510 Normal",2240,4864,2176,4608,1200000000,68,106,187,36,19,13,9]
[null,null,null,null,"Iron 4510 Binning2x2",{"$f":"F33/2","v":1120},{"$f":"G33/2","v":2432},1088,2304,1200000000,{"$f":"CEILING(K33/2,1)","v":34},{"$f":"CEILING(L33/2,1)","v":53},94,36,21,15,11]
[null,null,null,null,"Iron 4502 Normal",1280,2304,1216,2048,1200000000,68,106,187,32,9,9,7]
[null,null,null,null,"Iron 4502 Binning2x2",{"$f":"F35/2","v":640},{"$f":"G35/2","v":1152},608,1024,1200000000,{"$f":"CEILING(K35/2,1)","v":34},{"$f":"CEILING(L35/2,1)","v":53},94,32,13,13,11]

{"sheet":"UserInterface","index":1,"n_rows":27,"n_cols":4,"rows_kept":27,"cut":false,"hidden":true,"merged":[[3,1,5,2],[6,1,6,2],[14,1,17,4],[18,1,19,1],[26,3,26,4],[26,1,26,2],[22,1,22,2],[23,1,23,2],[24,1,24,2],[25,1,25,2],[22,3,22,4],[23,3,23,4],[18,0,19,0],[21,1,21,2],[21,3,21,4],[24,3,24,4],[25,3,25,4],[20,1,20,2],[20,3,20,4]]}
[]
[]
[]
[null,"IRON"]
[]
[]
[null,"Frame-Rate Calculator"]
[]
[]
[]
[]
[]
[]
[]
[null,"This document is provided as a simple and convinent tool for our customers to use. Please feel free to contact our support team with any questions - we will be happy to  provide assitance and support! For more information, products and the latest updates visit our website,  www.KayaInstruments.com"]
[]
[]
[]
["Selector u","Iron 4521"]
[null,null,{"$f":"Calculations!C13&\" (V) x \"&Calculations!C14&\" (H)\"","v":"4096 (V) x 5120 (H)"}]
[null,"Mode Selection",null,"Normal"]
[null,"Number of Desired lines (V)",null,4096]
[null,"Desired Number of Horizontal Pixels (H)",null,5120]
[null,"Number of Links",null,4]
[null,"Bitness Selection:",null,12]
[null,"Interface Selection:",null,"CXP12"]
[null,"MAX Frame Rate: ",null,{"$f":"Calculations!F26","v":153}]

{"sheet":"Start","index":2,"n_rows":18,"n_cols":2,"rows_kept":18,"cut":false,"hidden":false,"merged":[[17,1,17,4]]}
[]
[]
[]
[]
[]
[]
[]
[]
[]
[]
[]
[]
[]
[]
[]
[]
[]
[null,"You must enable macros in order to use this calculator!"]